BEGIN:VCALENDAR
VERSION:2.0
PRODID:-//Oakville (Milton) Model Flying Club - ECPv6.15.20//NONSGML v1.0//EN
CALSCALE:GREGORIAN
METHOD:PUBLISH
X-WR-CALNAME:Oakville (Milton) Model Flying Club
X-ORIGINAL-URL:https://omfc.org
X-WR-CALDESC:Events for Oakville (Milton) Model Flying Club
REFRESH-INTERVAL;VALUE=DURATION:PT1H
X-Robots-Tag:noindex
X-PUBLISHED-TTL:PT1H
BEGIN:VTIMEZONE
TZID:America/Toronto
BEGIN:DAYLIGHT
TZOFFSETFROM:-0500
TZOFFSETTO:-0400
TZNAME:EDT
DTSTART:20240310T070000
END:DAYLIGHT
BEGIN:STANDARD
TZOFFSETFROM:-0400
TZOFFSETTO:-0500
TZNAME:EST
DTSTART:20241103T060000
END:STANDARD
BEGIN:DAYLIGHT
TZOFFSETFROM:-0500
TZOFFSETTO:-0400
TZNAME:EDT
DTSTART:20250309T070000
END:DAYLIGHT
BEGIN:STANDARD
TZOFFSETFROM:-0400
TZOFFSETTO:-0500
TZNAME:EST
DTSTART:20251102T060000
END:STANDARD
BEGIN:DAYLIGHT
TZOFFSETFROM:-0500
TZOFFSETTO:-0400
TZNAME:EDT
DTSTART:20260308T070000
END:DAYLIGHT
BEGIN:STANDARD
TZOFFSETFROM:-0400
TZOFFSETTO:-0500
TZNAME:EST
DTSTART:20261101T060000
END:STANDARD
END:VTIMEZONE
BEGIN:VEVENT
DTSTART;TZID=America/Toronto:20251103T073000
DTEND;TZID=America/Toronto:20251103T210000
DTSTAMP:20260421T064413
CREATED:20250817T031017Z
LAST-MODIFIED:20250817T031017Z
UID:8742-1762155000-1762203600@omfc.org
SUMMARY:AGM – Election of 2026 Officers
DESCRIPTION:The club’s annual general meeting will be held on Monday\, November 3\, 2025\, at the Union Hall. For those who cannot attend in person\, it will also be held on Zoom. Please mark this date in your Calendar. \nIf you want to serve in any of the following club’s positions\, please reply to President. An email will be sent with all the nominations received by about October 20\, 2025. \nElected position \nThe Officers of the Club to be elected: \n\nPresident\nVice-President\nSecretary/Treasurer\nField Manager/Safety Director\nFliteline Editor\nSocial Director\n\nAppointed positions \n\nChief Flying Instructor\nWebmaster\n\n  \nOMFC Board
URL:https://omfc.org/event/agm-election-of-2026-officers/
LOCATION:Mtg. Hall & Virtual\, 785 Pacific Road\, U13\, Oakville\, ON
END:VEVENT
END:VCALENDAR