BEGIN:VCALENDAR
VERSION:2.0
PRODID:-//Oakville (Milton) Model Flying Club - ECPv6.15.20//NONSGML v1.0//EN
CALSCALE:GREGORIAN
METHOD:PUBLISH
X-WR-CALNAME:Oakville (Milton) Model Flying Club
X-ORIGINAL-URL:https://omfc.org
X-WR-CALDESC:Events for Oakville (Milton) Model Flying Club
REFRESH-INTERVAL;VALUE=DURATION:PT1H
X-Robots-Tag:noindex
X-PUBLISHED-TTL:PT1H
BEGIN:VTIMEZONE
TZID:America/Toronto
BEGIN:DAYLIGHT
TZOFFSETFROM:-0500
TZOFFSETTO:-0400
TZNAME:EDT
DTSTART:20230312T070000
END:DAYLIGHT
BEGIN:STANDARD
TZOFFSETFROM:-0400
TZOFFSETTO:-0500
TZNAME:EST
DTSTART:20231105T060000
END:STANDARD
BEGIN:DAYLIGHT
TZOFFSETFROM:-0500
TZOFFSETTO:-0400
TZNAME:EDT
DTSTART:20240310T070000
END:DAYLIGHT
BEGIN:STANDARD
TZOFFSETFROM:-0400
TZOFFSETTO:-0500
TZNAME:EST
DTSTART:20241103T060000
END:STANDARD
BEGIN:DAYLIGHT
TZOFFSETFROM:-0500
TZOFFSETTO:-0400
TZNAME:EDT
DTSTART:20250309T070000
END:DAYLIGHT
BEGIN:STANDARD
TZOFFSETFROM:-0400
TZOFFSETTO:-0500
TZNAME:EST
DTSTART:20251102T060000
END:STANDARD
END:VTIMEZONE
BEGIN:VEVENT
DTSTART;VALUE=DATE:20240915
DTEND;VALUE=DATE:20240916
DTSTAMP:20260422T045112
CREATED:20240906T184210Z
LAST-MODIFIED:20240906T184210Z
UID:8549-1726358400-1726444799@omfc.org
SUMMARY:Club Members Fun Fly & BBQ
DESCRIPTION:There will be a Fun Fly and Barbeque next Sunday\, September 15\, 2024\, starting at 10:00 am (or earlier\, the field is open all day!!). The purpose of the event is to provide an opportunity for members to fly and socialize. There will be a minimal cost of $10 to cover refreshments\, which will be Hamburger or Hot dog\, Pop or Water. Lunch will be served at noon. \nPlease let the club Sec/Treas know as soon as possible by email with your preferred meal option. If you prefer a vegetarian option\, please let me know as well. Pete.
URL:https://omfc.org/event/club-members-fun-fly-bbq/
LOCATION:Flying Field\, 12535 Britannia Rd\, Milton\, Ontario\, Canada
END:VEVENT
BEGIN:VEVENT
DTSTART;TZID=America/Toronto:20240930T080000
DTEND;TZID=America/Toronto:20241005T180000
DTSTAMP:20260422T045112
CREATED:20240930T152832Z
LAST-MODIFIED:20240930T153801Z
UID:8557-1727683200-1728151200@omfc.org
SUMMARY:Online Auction of 15 Items - Ends Oct.05 @ 6p.m.
DESCRIPTION:15 Items are being offered for sale in this auction as found at this link  “ Online Items for Sale “ \nCheck the link to see photos of items and the spreadsheet that shows auction status. \nEmail the Sec/treas to enter your bid\, then monitor the link to see the bid statuses.
URL:https://omfc.org/event/online-auction-of-15-items-ends-oct-06-6p-m/
LOCATION:Virtual
END:VEVENT
END:VCALENDAR