BEGIN:VCALENDAR
VERSION:2.0
PRODID:-//Oakville (Milton) Model Flying Club - ECPv6.15.20//NONSGML v1.0//EN
CALSCALE:GREGORIAN
METHOD:PUBLISH
X-WR-CALNAME:Oakville (Milton) Model Flying Club
X-ORIGINAL-URL:https://omfc.org
X-WR-CALDESC:Events for Oakville (Milton) Model Flying Club
REFRESH-INTERVAL;VALUE=DURATION:PT1H
X-Robots-Tag:noindex
X-PUBLISHED-TTL:PT1H
BEGIN:VTIMEZONE
TZID:America/Toronto
BEGIN:DAYLIGHT
TZOFFSETFROM:-0500
TZOFFSETTO:-0400
TZNAME:EDT
DTSTART:20240310T070000
END:DAYLIGHT
BEGIN:STANDARD
TZOFFSETFROM:-0400
TZOFFSETTO:-0500
TZNAME:EST
DTSTART:20241103T060000
END:STANDARD
BEGIN:DAYLIGHT
TZOFFSETFROM:-0500
TZOFFSETTO:-0400
TZNAME:EDT
DTSTART:20250309T070000
END:DAYLIGHT
BEGIN:STANDARD
TZOFFSETFROM:-0400
TZOFFSETTO:-0500
TZNAME:EST
DTSTART:20251102T060000
END:STANDARD
BEGIN:DAYLIGHT
TZOFFSETFROM:-0500
TZOFFSETTO:-0400
TZNAME:EDT
DTSTART:20260308T070000
END:DAYLIGHT
BEGIN:STANDARD
TZOFFSETFROM:-0400
TZOFFSETTO:-0500
TZNAME:EST
DTSTART:20261101T060000
END:STANDARD
END:VTIMEZONE
BEGIN:VEVENT
DTSTART;TZID=America/Toronto:20251201T190000
DTEND;TZID=America/Toronto:20251201T210000
DTSTAMP:20260421T121456
CREATED:20251113T151430Z
LAST-MODIFIED:20251118T151203Z
UID:8834-1764615600-1764622800@omfc.org
SUMMARY:Members Only - December Club Social Get Together - RSVP
DESCRIPTION:In lieu of the regular December Club Meeting at the hall\, there will be a Social Gathering at the Bronte Sports Kitchen for members only. \n2544 Speers Road\, Oakville at 7:00pm on Monday December 1st. \nPlease note that each person will be responsible for their own bill. Also\, since this is a larger group there will be a 20% gratuity added to each bill. \nPlease let the Secretary know if you are planning to attend BY THIS FRIDAY (Nov.14) so that we can set the reservation numbers.
URL:https://omfc.org/event/december-club-get-together-rsvp/
LOCATION:Bronte Sports Kitchen\, 2544 Speers Road\, Oakville\, Ontario\, Canada
END:VEVENT
END:VCALENDAR